BEGIN:VCALENDAR
VERSION:2.0
PRODID:-//ecdhd.ne.gov//NONSGML kigkonsult.se iCalcreator 2.30.10//
CALSCALE:GREGORIAN
METHOD:PUBLISH
UID:153dbf82-9560-4fc4-aad8-0aa04d78b66b
X-WR-CALDESC:
X-WR-RELCALID:6f077c3e1696dae02b3e994eb143cf5d
X-WR-TIMEZONE:America/Chicago
BEGIN:VTIMEZONE
TZID:America/Chicago
BEGIN:STANDARD
TZNAME:CST
DTSTART:20221106T020000
TZOFFSETFROM:-0500
TZOFFSETTO:-0600
RDATE:20231105T020000
RDATE:20241103T020000
END:STANDARD
BEGIN:DAYLIGHT
TZNAME:CDT
DTSTART:20230312T020000
TZOFFSETFROM:-0600
TZOFFSETTO:-0500
RDATE:20240310T020000
END:DAYLIGHT
END:VTIMEZONE
BEGIN:VEVENT
UID:72b2b34d-ecc9-4af4-a6aa-0215fd855645
DTSTAMP:20260420T152502Z
DESCRIPTION:
DTSTART;TZID=America/Chicago:20230831T190000
DTEND;TZID=America/Chicago:20230831T200000
LOCATION:The zoom link for the virtual support group is https://us06web.zoo
 m.us/j/86052757048?pwd=ODExZG11L1pxSXRjRzZkNjNMTHh4Zz09
SUMMARY:Rainbow Support Group
END:VEVENT
END:VCALENDAR
