BEGIN:VCALENDAR
VERSION:2.0
PRODID:-//ecdhd.ne.gov//NONSGML kigkonsult.se iCalcreator 2.30.10//
CALSCALE:GREGORIAN
METHOD:PUBLISH
UID:8399a29c-d914-4996-bb39-8661ddecbe5f
X-WR-CALDESC:
X-WR-RELCALID:a4d10d064b4355933ab111621a9120f6
X-WR-TIMEZONE:America/Chicago
BEGIN:VTIMEZONE
TZID:America/Chicago
BEGIN:STANDARD
TZNAME:CST
DTSTART:20221106T020000
TZOFFSETFROM:-0500
TZOFFSETTO:-0600
RDATE:20231105T020000
RDATE:20241103T020000
END:STANDARD
BEGIN:DAYLIGHT
TZNAME:CDT
DTSTART:20230312T020000
TZOFFSETFROM:-0600
TZOFFSETTO:-0500
RDATE:20240310T020000
END:DAYLIGHT
END:VTIMEZONE
BEGIN:VEVENT
UID:343824a1-6b61-4786-8987-d3559bf01ebd
DTSTAMP:20260420T131927Z
DESCRIPTION:
DTSTART;TZID=America/Chicago:20230817T190000
DTEND;TZID=America/Chicago:20230817T200000
LOCATION:The zoom link for the virtual support group is https://us06web.zoo
 m.us/j/86052757048?pwd=ODExZG11L1pxSXRjRzZkNjNMTHh4Zz09
SUMMARY:Rainbow Support Group
END:VEVENT
END:VCALENDAR
